BEGIN:VCALENDAR
VERSION:2.0
PRODID:-//Bettinghausen - ECPv6.1.3//NONSGML v1.0//EN
CALSCALE:GREGORIAN
METHOD:PUBLISH
X-WR-CALNAME:Bettinghausen
X-ORIGINAL-URL:https://bettinghausen.de
X-WR-CALDESC:Veranstaltungen für Bettinghausen
REFRESH-INTERVAL;VALUE=DURATION:PT1H
X-Robots-Tag:noindex
X-PUBLISHED-TTL:PT1H
BEGIN:VTIMEZONE
TZID:UTC
BEGIN:STANDARD
TZOFFSETFROM:+0000
TZOFFSETTO:+0000
TZNAME:UTC
DTSTART:20220101T000000
END:STANDARD
END:VTIMEZONE
BEGIN:VEVENT
DTSTART;TZID=UTC:20221009T080000
DTEND;TZID=UTC:20221009T170000
DTSTAMP:20260426T033410
CREATED:20220102T193916Z
LAST-MODIFIED:20220102T193916Z
UID:699-1665302400-1665334800@bettinghausen.de
SUMMARY:Bettinghauser Treff
DESCRIPTION:
URL:https://bettinghausen.de/event/bettinghauser-treff-2/
END:VEVENT
BEGIN:VEVENT
DTSTART;TZID=UTC:20221009T150000
DTEND;TZID=UTC:20221009T233000
DTSTAMP:20260426T033410
CREATED:20220928T071700Z
LAST-MODIFIED:20220928T071700Z
UID:749-1665327600-1665358200@bettinghausen.de
SUMMARY:Bettinghauser Treff
DESCRIPTION:Sonntag\, 09.10.2022 \n15:00 Uhr im Bürgerhaus Bettinghausen
URL:https://bettinghausen.de/event/bettinghauser-treff-4/
END:VEVENT
END:VCALENDAR