BEGIN:VCALENDAR
VERSION:2.0
PRODID:-//Bettinghausen - ECPv6.1.3//NONSGML v1.0//EN
CALSCALE:GREGORIAN
METHOD:PUBLISH
X-WR-CALNAME:Bettinghausen
X-ORIGINAL-URL:https://bettinghausen.de
X-WR-CALDESC:Veranstaltungen fÃ¼r Bettinghausen
REFRESH-INTERVAL;VALUE=DURATION:PT1H
X-Robots-Tag:noindex
X-PUBLISHED-TTL:PT1H
BEGIN:VTIMEZONE
TZID:UTC
BEGIN:STANDARD
TZOFFSETFROM:+0000
TZOFFSETTO:+0000
TZNAME:UTC
DTSTART:20210101T000000
END:STANDARD
TZID:Europe/Berlin
BEGIN:DAYLIGHT
TZOFFSETFROM:+0100
TZOFFSETTO:+0200
TZNAME:CEST
DTSTART:20210328T010000
END:DAYLIGHT
BEGIN:STANDARD
TZOFFSETFROM:+0200
TZOFFSETTO:+0100
TZNAME:CET
DTSTART:20211031T010000
END:STANDARD
END:VTIMEZONE
BEGIN:VEVENT
DTSTART;VALUE=DATE:20221206
DTEND;VALUE=DATE:20221207
DTSTAMP:20260423T150201
CREATED:20220102T194107Z
LAST-MODIFIED:20220102T194107Z
UID:705-1670284800-1670371199@bettinghausen.de
SUMMARY:Der Nikolaus kommt
DESCRIPTION:
URL:https://bettinghausen.de/event/der-nikolaus-kommt/
END:VEVENT
BEGIN:VEVENT
DTSTART;VALUE=DATE:20221119
DTEND;VALUE=DATE:20221120
DTSTAMP:20260423T150201
CREATED:20220102T194035Z
LAST-MODIFIED:20220102T194035Z
UID:703-1668816000-1668902399@bettinghausen.de
SUMMARY:Tambourkorps: Mitgliederversammlung
DESCRIPTION:
URL:https://bettinghausen.de/event/tambourkorps-mitgliederversammlung/
END:VEVENT
BEGIN:VEVENT
DTSTART;VALUE=DATE:20221112
DTEND;VALUE=DATE:20221113
DTSTAMP:20260423T150201
CREATED:20220102T193954Z
LAST-MODIFIED:20220102T193954Z
UID:701-1668211200-1668297599@bettinghausen.de
SUMMARY:St. Martinsumzug
DESCRIPTION:
URL:https://bettinghausen.de/event/st-martinsumzug/
END:VEVENT
BEGIN:VEVENT
DTSTART;TZID=UTC:20221009T150000
DTEND;TZID=UTC:20221009T233000
DTSTAMP:20260423T150201
CREATED:20220928T071700Z
LAST-MODIFIED:20220928T071700Z
UID:749-1665327600-1665358200@bettinghausen.de
SUMMARY:Bettinghauser Treff
DESCRIPTION:Sonntag\, 09.10.2022 \n15:00 Uhr im BÃ¼rgerhaus Bettinghausen
URL:https://bettinghausen.de/event/bettinghauser-treff-4/
END:VEVENT
BEGIN:VEVENT
DTSTART;TZID=UTC:20221009T080000
DTEND;TZID=UTC:20221009T170000
DTSTAMP:20260423T150201
CREATED:20220102T193916Z
LAST-MODIFIED:20220102T193916Z
UID:699-1665302400-1665334800@bettinghausen.de
SUMMARY:Bettinghauser Treff
DESCRIPTION:
URL:https://bettinghausen.de/event/bettinghauser-treff-2/
END:VEVENT
BEGIN:VEVENT
DTSTART;VALUE=DATE:20220813
DTEND;VALUE=DATE:20220814
DTSTAMP:20260423T150201
CREATED:20220102T193836Z
LAST-MODIFIED:20220102T193836Z
UID:697-1660348800-1660435199@bettinghausen.de
SUMMARY:Dinner enc blanc
DESCRIPTION:
URL:https://bettinghausen.de/event/dinner-enc-blanc/
END:VEVENT
BEGIN:VEVENT
DTSTART;VALUE=DATE:20220727
DTEND;VALUE=DATE:20220728
DTSTAMP:20260423T150201
CREATED:20220102T193808Z
LAST-MODIFIED:20220102T193808Z
UID:695-1658880000-1658966399@bettinghausen.de
SUMMARY:Frauenstammtisch
DESCRIPTION:
URL:https://bettinghausen.de/event/frauenstammtisch-2/
END:VEVENT
BEGIN:VEVENT
DTSTART;TZID=UTC:20220715T080000
DTEND;TZID=UTC:20220717T170000
DTSTAMP:20260423T150201
CREATED:20220102T193730Z
LAST-MODIFIED:20220102T193730Z
UID:693-1657872000-1658077200@bettinghausen.de
SUMMARY:SchÃ¼tzenfest
DESCRIPTION:
URL:https://bettinghausen.de/event/schuetzenfest/
END:VEVENT
BEGIN:VEVENT
DTSTART;VALUE=DATE:20220626
DTEND;VALUE=DATE:20220627
DTSTAMP:20260423T150201
CREATED:20220102T193623Z
LAST-MODIFIED:20220102T193623Z
UID:691-1656201600-1656287999@bettinghausen.de
SUMMARY:TrÃ¶deltreff
DESCRIPTION:
URL:https://bettinghausen.de/event/troedeltreff/
END:VEVENT
BEGIN:VEVENT
DTSTART;VALUE=DATE:20220625
DTEND;VALUE=DATE:20220626
DTSTAMP:20260423T150201
CREATED:20220102T125316Z
LAST-MODIFIED:20220102T125316Z
UID:689-1656115200-1656201599@bettinghausen.de
SUMMARY:KinderschÃ¼tzenfest
DESCRIPTION:
URL:https://bettinghausen.de/event/kinderschuetzenfest/
END:VEVENT
BEGIN:VEVENT
DTSTART;VALUE=DATE:20220526
DTEND;VALUE=DATE:20220527
DTSTAMP:20260423T150201
CREATED:20220102T125108Z
LAST-MODIFIED:20220102T125108Z
UID:687-1653523200-1653609599@bettinghausen.de
SUMMARY:Feuerwehr/SchÃ¼tzen: Christi Himmelfahrt-Prozession
DESCRIPTION:
URL:https://bettinghausen.de/event/feuerwehr-schuetzen-christi-himmelfahrt-prozession/
END:VEVENT
BEGIN:VEVENT
DTSTART;VALUE=DATE:20220515
DTEND;VALUE=DATE:20220516
DTSTAMP:20260423T150201
CREATED:20220102T124956Z
LAST-MODIFIED:20220102T124956Z
UID:685-1652572800-1652659199@bettinghausen.de
SUMMARY:Landtagswahl\, Waffelverkauf des FÃ¶rdervereins Kindergarten
DESCRIPTION:
URL:https://bettinghausen.de/event/landtagswahl-waffelverkauf-des-foerdervereins-kindergarten/
END:VEVENT
BEGIN:VEVENT
DTSTART;VALUE=DATE:20220514
DTEND;VALUE=DATE:20220515
DTSTAMP:20260423T150201
CREATED:20220102T124847Z
LAST-MODIFIED:20220102T124847Z
UID:683-1652486400-1652572799@bettinghausen.de
SUMMARY:Bettinghauser Treff
DESCRIPTION:
URL:https://bettinghausen.de/event/bettinghauser-treff/
END:VEVENT
BEGIN:VEVENT
DTSTART;VALUE=DATE:20220430
DTEND;VALUE=DATE:20220501
DTSTAMP:20260423T150201
CREATED:20220102T124810Z
LAST-MODIFIED:20220102T124810Z
UID:681-1651276800-1651363199@bettinghausen.de
SUMMARY:FÃ¶rderverein Kindergarten: Kuchenbasar am/im Jugendhaus
DESCRIPTION:
URL:https://bettinghausen.de/event/foerderverein-kindergarten-kuchenbasar-am-im-jugendhaus/
END:VEVENT
BEGIN:VEVENT
DTSTART;VALUE=DATE:20220427
DTEND;VALUE=DATE:20220428
DTSTAMP:20260423T150201
CREATED:20220102T124649Z
LAST-MODIFIED:20220102T124649Z
UID:679-1651017600-1651103999@bettinghausen.de
SUMMARY:Frauenstammtisch
DESCRIPTION:
URL:https://bettinghausen.de/event/frauenstammtisch/
END:VEVENT
BEGIN:VEVENT
DTSTART;VALUE=DATE:20220416
DTEND;VALUE=DATE:20220417
DTSTAMP:20260423T150201
CREATED:20220102T124558Z
LAST-MODIFIED:20220102T124558Z
UID:677-1650067200-1650153599@bettinghausen.de
SUMMARY:Osterfeuer
DESCRIPTION:
URL:https://bettinghausen.de/event/osterfeuer/
END:VEVENT
BEGIN:VEVENT
DTSTART;VALUE=DATE:20220326
DTEND;VALUE=DATE:20220327
DTSTAMP:20260423T150201
CREATED:20220221T172932Z
LAST-MODIFIED:20220221T173108Z
UID:729-1648252800-1648339199@bettinghausen.de
SUMMARY:Bettinghauser Treff
DESCRIPTION:â€žZAUBERHAFTES FRÃœHJAHRâ€œ \nUm 15.oo Uhr \nIm BÃ¼rgerhaus Bettinghausen \nHiermit laden wir Sie herzlich zum BettinghauserTreff im FrÃ¼hjahr ein. \nWir mÃ¶chten mit Ihnen\, bei Kaffee\, Kuchen\, GesprÃ¤chen und Gesang \nden Zauber des beginnenden FrÃ¼hlings begrÃ¼ÃŸen. \nAuf â€žÃœberraschungsbesuchâ€œ dÃ¼rfen Sie Sich ebensofreuenâ€¦ \n  \nWir freuen uns auf Sie\, \nIhr Team des Bettinghauser Treffs
URL:https://bettinghausen.de/event/bettinghauser-treff-3/
END:VEVENT
BEGIN:VEVENT
DTSTART;VALUE=DATE:20220318
DTEND;VALUE=DATE:20220319
DTSTAMP:20260423T150201
CREATED:20220102T124516Z
LAST-MODIFIED:20220102T124516Z
UID:675-1647561600-1647647999@bettinghausen.de
SUMMARY:Tag der sauberen Gemeinde
DESCRIPTION:
URL:https://bettinghausen.de/event/tag-der-sauberen-gemeinde/
END:VEVENT
BEGIN:VEVENT
DTSTART;VALUE=DATE:20220316
DTEND;VALUE=DATE:20220317
DTSTAMP:20260423T150201
CREATED:20220102T124428Z
LAST-MODIFIED:20220102T124428Z
UID:673-1647388800-1647475199@bettinghausen.de
SUMMARY:Feuerwehr: Ã¶ffentliche Erste-Hilfe-Schulung
DESCRIPTION:u.a. Einweisung in die Nutzung des Defibrillators
URL:https://bettinghausen.de/event/feuerwehr-oeffentliche-erste-hilfe-schulung/
END:VEVENT
BEGIN:VEVENT
DTSTART;VALUE=DATE:20220305
DTEND;VALUE=DATE:20220306
DTSTAMP:20260423T150201
CREATED:20220102T124259Z
LAST-MODIFIED:20220102T124259Z
UID:671-1646438400-1646524799@bettinghausen.de
SUMMARY:Feuerwehr: Hauptversammlung u. GrÃ¼nkohlessen
DESCRIPTION:
URL:https://bettinghausen.de/event/feuerwehr-hauptversammlung-u-gruenkohlessen/
END:VEVENT
BEGIN:VEVENT
DTSTART;VALUE=DATE:20220304
DTEND;VALUE=DATE:20220305
DTSTAMP:20260423T150201
CREATED:20220102T124158Z
LAST-MODIFIED:20220102T124158Z
UID:669-1646352000-1646438399@bettinghausen.de
SUMMARY:Chor: Mitgliederversammlung
DESCRIPTION:
URL:https://bettinghausen.de/event/chor-mitgliederversammlung/
END:VEVENT
BEGIN:VEVENT
DTSTART;VALUE=DATE:20220302
DTEND;VALUE=DATE:20220303
DTSTAMP:20260423T150201
CREATED:20220102T124126Z
LAST-MODIFIED:20220102T124126Z
UID:667-1646179200-1646265599@bettinghausen.de
SUMMARY:CDU: Fischessen
DESCRIPTION:
URL:https://bettinghausen.de/event/cdu-fischessen/
END:VEVENT
BEGIN:VEVENT
DTSTART;VALUE=DATE:20220212
DTEND;VALUE=DATE:20220213
DTSTAMP:20260423T150201
CREATED:20220102T124042Z
LAST-MODIFIED:20220102T124042Z
UID:665-1644624000-1644710399@bettinghausen.de
SUMMARY:FÃ¶rderverein Kindergarten: Knobeln fÃ¼r Frauen
DESCRIPTION:
URL:https://bettinghausen.de/event/foerderverein-kindergarten-knobeln-fuer-frauen/
END:VEVENT
BEGIN:VEVENT
DTSTART;VALUE=DATE:20220122
DTEND;VALUE=DATE:20220123
DTSTAMP:20260423T150201
CREATED:20220102T123915Z
LAST-MODIFIED:20220102T123915Z
UID:663-1642809600-1642895999@bettinghausen.de
SUMMARY:SchÃ¼tzen: Generalversammlung
DESCRIPTION:
URL:https://bettinghausen.de/event/schuetzen-generalversammlung/
END:VEVENT
BEGIN:VEVENT
DTSTART;VALUE=DATE:20220117
DTEND;VALUE=DATE:20220118
DTSTAMP:20260423T150201
CREATED:20220102T123758Z
LAST-MODIFIED:20220102T123758Z
UID:661-1642377600-1642463999@bettinghausen.de
SUMMARY:Antonius / Patronatfest
DESCRIPTION:
URL:https://bettinghausen.de/event/antonius-patronatfest/
END:VEVENT
BEGIN:VEVENT
DTSTART;TZID=UTC:20211024T140000
DTEND;TZID=UTC:20211024T170000
DTSTAMP:20260423T150201
CREATED:20211009T115954Z
LAST-MODIFIED:20211009T115954Z
UID:658-1635084000-1635094800@bettinghausen.de
SUMMARY:Besichtigung Flugplatz Lohne
DESCRIPTION:
URL:https://bettinghausen.de/event/besichtigung-flugplatz-lohne/
LOCATION:Flugplatz Lohne
END:VEVENT
BEGIN:VEVENT
DTSTART;TZID=UTC:20211006T150000
DTEND;TZID=UTC:20211006T233000
DTSTAMP:20260423T150201
CREATED:20210924T193510Z
LAST-MODIFIED:20210924T193806Z
UID:637-1633532400-1633563000@bettinghausen.de
SUMMARY:Kaffeetrinken zum Erntedank
DESCRIPTION:Hiermit laden wir Sie herzlich zu unserem &#8222;Bettinghause Treff&#8220; zu Erntedank ein. \nNach der langen Pause freuen wir uns darauf \n\nuns vorstellen zu dÃ¼rfen\,\nmit Ihnen ins GesprÃ¤ch zu kommen\nund Anregungen fÃ¼r unsere nÃ¤chsten gemeinsamen Treffen zu erhalten.\n\nFÃ¼r Ihr leibliches Wohl wird gesorgt! \n  \nUnter Beachtung der 3G Regeln. \nBitte geben Sie uns bis zum 29.09.2021 Ihre Teilnahme bekannt: 0179 / 9664139
URL:https://bettinghausen.de/event/kaffeetrinken-zum-erntedank/
LOCATION:BÃ¼rgerhaus Bettinghausen
END:VEVENT
BEGIN:VEVENT
DTSTART;TZID=UTC:20211004T170000
DTEND;TZID=UTC:20211004T193000
DTSTAMP:20260423T150201
CREATED:20210924T194314Z
LAST-MODIFIED:20210924T195147Z
UID:648-1633366800-1633375800@bettinghausen.de
SUMMARY:Boule am Nachmittag
DESCRIPTION:Alle Interessierten sind ab 17 Uhr herzlichst Willkommen.
URL:https://bettinghausen.de/event/boule-am-nachmittag/
LOCATION:Dorfplatz Bettinghausen
END:VEVENT
BEGIN:VEVENT
DTSTART;TZID=Europe/Berlin:20210530T110000
DTEND;TZID=Europe/Berlin:20210530T170000
DTSTAMP:20260423T150201
CREATED:20210505T104335Z
LAST-MODIFIED:20210505T104335Z
UID:583-1622372400-1622394000@bettinghausen.de
SUMMARY:Kuchen & Waffeln to go...
DESCRIPTION:
URL:https://bettinghausen.de/event/kuchen-waffeln-to-go/
LOCATION:Bushaltestelle Bettinghausen mitte
END:VEVENT
END:VCALENDAR